BEGIN:VCALENDAR
CALSCALE:GREGORIAN
METHOD:PUBLISH
VERSION:2.0
PRODID:-//iCalWriter OpenSource Project//iCalWriter 0.8.1//EN
BEGIN:VEVENT
DTSTAMP:20260421T091603Z
UID:17767629630Vb0@www.tourismusnetzwerk-sachsen-anhalt.de
DTSTART;VALUE=DATE:20240926
DTEND;VALUE=DATE:20240926
SUMMARY:Ausschuss Wirtschaft und Tourismus
DESCRIPTION:
LOCATION:Landtag von Sachsen-Anhalt 39104 Magdeburg
CATEGORIES:B2B,Politik
URL:https://www.tourismusnetzwerk-sachsen-anhalt.de/de/tourismusnetzwerk-sachsen-anhalt-veranstaltung/event/6439996,1050/ausschuss-wirtschaft-und-tourismus-26-09-2024.html
ATTACH:https://www.tourismusnetzwerk-sachsen-anhalt.de/de/datei/anzeigen/id/6439997,1050/landtag1_c__viktoria_kuehne.jpg
END:VEVENT
END:VCALENDAR
