BEGIN:VCALENDAR
CALSCALE:GREGORIAN
METHOD:PUBLISH
VERSION:2.0
PRODID:-//iCalWriter OpenSource Project//iCalWriter 0.8.1//EN
BEGIN:VEVENT
DTSTAMP:20260423T123556Z
UID:1776947756YakL@www.tourismusnetzwerk-sachsen-anhalt.de
DTSTART;VALUE=DATE:20260618
DTEND;VALUE=DATE:20260618
SUMMARY:Sparkassen-Tourismusbarometer – Ergebnisse für Sachsen-Anhalt
DESCRIPTION:
LOCATION:Sachsen-Anhalt 00000 Sachsen-Anhalt
Ostdeutscher Sparkassenverband 10117 Berlin
CATEGORIES:Ausstellung / Messe / Fachmesse / Fachausstellung / Fachveranstaltung,B2B,Messen und Präsentationen,Regionale Veranstaltungen
URL:https://www.tourismusnetzwerk-sachsen-anhalt.de/de/tourismusnetzwerk-sachsen-anhalt-veranstaltung/event/9627621,1050/sparkassen-tourismusbarometer--ergebnisse-fuer-sachsen-anhalt-18-06-2026.html
ATTACH:https://www.tourismusnetzwerk-sachsen-anhalt.de/de/datei/anzeigen/id/9627622,1050/osv_01.04.14.png
END:VEVENT
END:VCALENDAR
