BEGIN:VCALENDAR
CALSCALE:GREGORIAN
METHOD:PUBLISH
VERSION:2.0
PRODID:-//iCalWriter OpenSource Project//iCalWriter 0.8.1//EN
BEGIN:VEVENT
DTSTAMP:20260421T154723Z
UID:1776786443RU3n@www.tourismusnetzwerk-sachsen-anhalt.de
DTSTART:20260518T170000
DTEND:20260518T183000
SUMMARY:DTV-Online-Seminar: Vermieterhaftung und Versicherungen: Was Gastgeberinnen und Gastgeber wissen müssen
DESCRIPTION:Wer eine Ferienunterkunft vermietet, übernimmt Verantwortung – nicht nur für das Wohl der Gäste, sondern auch gegenüber Nachbarn und Dritten. Dieses Online-Seminar zeigt, welche Haftungsrisiken bestehen und wie sie sich wirksam absichern lassen. Behandelt werden die wichtigsten rechtlichen Grundlagen zur Vermieterhaftung – etwa bei Schäden, Unfällen oder Mängeln an der Ferienunterkunft sowie der sinnvolle Einsatz von Versicherungen.
Das Seminar richtet sich an Gastgeberinnen und Gastgeber von Ferienunterkünften sowie an Verantwortliche in touristischen Betrieben, die Haftungsrisiken frühzeitig erkennen und gezielt minimieren möchten.
Inhalte:» Verantwortlichkeiten von Vermieterinnen und Vermietern gegenüber Gästen, Nachbarn und Dritten
» Rechtliche Grundlagen und Überblick über Haftungsrisiken bei der Vermietung von Ferienunterkünften
» Haftung bei Schäden, Unfällen oder Mängeln an der Ferienunterkunft
» Möglichkeiten der Absicherung und Risikominimierung
LOCATION:Deutscher Tourismusverband Berlin
CATEGORIES:Ausstellung / Messe / Fachmesse / Fachausstellung / Fachveranstaltung,Bildung / Diskussion / Vorträge / Wissenschaft,Seminare/ Aus- und Weiterbildungen/ Exkursionen
URL:https://www.tourismusnetzwerk-sachsen-anhalt.de/de/tourismusnetzwerk-sachsen-anhalt-veranstaltung/event/9795341,1050/dtv-online-seminar-vermieterhaftung-und-versicherungen-was-gastgeberinnen-und-gastgeber-wissen-muessen-18-05-2026.html
ATTACH:https://www.tourismusnetzwerk-sachsen-anhalt.de/de/datei/anzeigen/id/9795342,1050/geralt-law-and-order-6311493_1280.jpg
END:VEVENT
END:VCALENDAR
