BEGIN:VCALENDAR
CALSCALE:GREGORIAN
METHOD:PUBLISH
VERSION:2.0
PRODID:-//iCalWriter OpenSource Project//iCalWriter 0.8.1//EN
BEGIN:VEVENT
DTSTAMP:20260421T170358Z
UID:17767910386tfA@www.tourismusnetzwerk-sachsen-anhalt.de
DTSTART:20260521T100000
DTEND:20260521T110000
SUMMARY:KURS ZUKUNFT: DMO 5.0
DESCRIPTION:Hintergrund
Tourismusorganisationen haben sich in den vergangenen Jahrzehnten stark verändert: vom klassischen Gästeservice über Marketing und Destinationsmanagement hin zu einer immer stärkeren Mitverantwortung für die wichtigen Zukunfts- und Schnittstellenthemen, die für den Erfolg des touristischen Produktes entscheidend sind: Mobilität, Nachhaltigkeit, Klimaanpassung, regionale Produkte, Wohnraum, smarte Infrastruktur und Co. Die DMO 4.0 steht damit wie nie zuvor vor der Herausforderung, Netzwerke branchenübergreifend aufzubauen, zu pflegen und partnerschaftlich auf Augenhöhe zu orchestrieren. Das darf und muss auch weiterhin so bleiben.
Und doch geht die Evolution der Tourismusorganisationen unaufhörlich weiter. Auch wenn viele DMOs in Deutschland inhaltlich noch immer eher auf den Stufen 2.0 und 3.0 stehen, steigen wir gedanklich die Treppe noch ein wenig höher. Warum? Weil in Zeiten von Sinnkrise und künstlicher Intelligenz neue Kompetenzen, Rollen und Narrative notwendig werden. Wenn viele Basisaufgaben aus Tourismusmarketing und -management durch KI deutlich effizienter werden, können sich die Budgets eher auf dialogorientierte und richtungsweisende Aufgaben verschieben. Die DMO 5.0 wird zur Navigatorin in eine wünschenswerte Zukunft.
Dabei geht es vor allem um eine neue Haltung: Navigieren statt verwalten. Die DMO 5.0 sieht Zukunft nicht als Bedrohung, sondern als gemeinsamen Gestaltungsraum. Sie hilft der Destination, in einer sich wandelnden Welt gemeinsam Kurs zu halten. Wie das gelingen kann, zeigen Maike Berndt und Andrea Möller in diesem Online-Impuls und diskutieren die neuen Anforderungen an Tourismusorganisationen mit Vordenker*innen aus der Branche.
LOCATION:Online - digital 
		00000 Sachsen-Anhalt
	
dwif Berlin
CATEGORIES:Bildung / Diskussion / Vorträge / Wissenschaft,Seminare/ Aus- und Weiterbildungen/ Exkursionen
URL:https://www.tourismusnetzwerk-sachsen-anhalt.de/de/tourismusnetzwerk-sachsen-anhalt-veranstaltung/event/9887733,1050/kurs-zukunft-dmo-50-21-05-2026.html
ATTACH:https://www.tourismusnetzwerk-sachsen-anhalt.de/de/datei/anzeigen/id/9887734,1050/b39affe8-d45e-4ae7-9a45-4e844de1cac7.png
END:VEVENT
END:VCALENDAR
