BEGIN:VCALENDAR
CALSCALE:GREGORIAN
METHOD:PUBLISH
VERSION:2.0
PRODID:-//iCalWriter OpenSource Project//iCalWriter 0.8.1//EN
BEGIN:VEVENT
DTSTAMP:20260421T172612Z
UID:1776792372w7bH@www.tourismusnetzwerk-sachsen-anhalt.de
DTSTART:20260512T100000
DTEND:20260512T110000
SUMMARY:Webinar Teil 1: Bildung wettbewerbsfähiger DMO – das Beispiel Rhön
DESCRIPTION:Das immer komplexer werdende Umfeld, Markt- und die Rahmenbedingungen stellen Organisationen im Tourismus vor große Aufgaben. Change ist unter „normalen“ Bedingungen schon eine große Herausforderung, die nicht „nebenbei“ realisiert werden kann. Die wachsende Komplexität in der VUKA-Welt (VUKA steht für volatil, unsicher, komplex und ambivalent) inkl. der aktuell zu bewältigenden Krisen birgt die Gefahr, die Teams in den DMO „zu verschleißen“ und auch die öffentlichen und privaten Akteur:innen zu überfordern. Gleichzeitig sind zukunftsorientierte und wirksame Organisations- und Kooperationsstrukturen umso wichtiger, um den Herausforderungen der Zeit begegnen zu können.
Das diese Veränderung trotz oder gerade wegen der Rahmenbedingungen gelingen kann, zeigen mittlerweile zahlreiche gute Beispiele. Über diese erfolgreichen Prozesse wollen wir in einer zunächst vierteiligen kostenlosen Webinarreihe mit den Organisationen sprechen und mehr erfahren über Hintergründe, Stolpersteine, Prozessschritte, Erfolgsfaktoren etc.
Folgende Webinare haben wir geplant, für mehr Informationen und die Registrierung wählen Sie das jeweilige Webinar aus. 
Wir freuen uns auf Ihre Teilnahme! 
Webinar Teil 1: Bildung wettbewerbsfähiger DMO – das Beispiel Rhön
Am Beispiel der Rhön zeigt das Webinar, wie aus länderbezogenen, eher kleinteiligen Strukturen eine länderübergreifende, wettbewerbsfähige DMO entstehen kann.
Gesprächspartner: Johannes Metz (Rhön GmbH)
LOCATION:BTE Tourismus- und Regionalberatung Berlin
CATEGORIES:Ausstellung / Messe / Fachmesse / Fachausstellung / Fachveranstaltung,Bildung / Diskussion / Vorträge / Wissenschaft,Seminare/ Aus- und Weiterbildungen/ Exkursionen
URL:https://www.tourismusnetzwerk-sachsen-anhalt.de/de/tourismusnetzwerk-sachsen-anhalt-veranstaltung/event/9910028,1050/webinar-teil-1-bildung-wettbewerbsfaehiger-dmo--das-beispiel-rhoen-12-05-2026.html
ATTACH:https://www.tourismusnetzwerk-sachsen-anhalt.de/de/datei/anzeigen/id/9910029,1050/titel-orga-webinare-2048x1152.png
END:VEVENT
END:VCALENDAR
