BEGIN:VCALENDAR
CALSCALE:GREGORIAN
METHOD:PUBLISH
VERSION:2.0
PRODID:-//iCalWriter OpenSource Project//iCalWriter 0.8.1//EN
BEGIN:VEVENT
DTSTAMP:20260421T172923Z
UID:177679256302qW@www.tourismusnetzwerk-sachsen-anhalt.de
DTSTART:20260507T130000
DTEND:20260507T140000
SUMMARY:BETT+BIKE TOURISMUSTALK
DESCRIPTION:Liebe Kolleginnen und Kollegen in der Touristik,Der Radtourismus hat sich vielerorts zu einer grundlegenden Säule im touristischen Angebot einer Destination entwickelt. Das bestätigen auch die Zahlen der aktuellen ADFC-Radreiseanalyse 2025. Doch was bedeutet das für die ostdeutschen Bundesländer? Wie entwickelt sich der Radtourismus in unserer Region? Welche Trends und Innovationen gibt es – und was ist neu?Die Qualität der Infrastruktur und attraktiver Routen ist wesentliche Grundlage für ein erfolgreiches radtouristisches Angebot vor Ort. Dazu gehören insbesondere engagierte Unterkünfte, die auf die Bedürfnisse von Radtouristinnen und Radtouristen eingehen. Deshalb zeichnet der Allgemeine Deutsche Fahrrad-Club (ADFC) nicht nur Radrouten und Radreiseregionen aus, sondern zertifiziert seit über 30 Jahren Beherbergungsbetriebe aller Art mit dem Qualitätszertifikat „Bett+Bike“.Welche Argumente können Gastgeber überzeugen, ihr Angebot auf die Zielgruppe der Radtouristen auszurichten und welche Erwartungen hat der Fahrrad fahrende Gast an eine Unterkunft? Wie können Sie die Gastgeber Ihrer Region auf dem Weg zu einem qualitativ hochwertigen Service für Radtouristen mitnehmen? Und welche Vorteile bringen fahrradfreundliche Unterkünfte letztlich Ihrer Region?Kann das Marketing für Ihre Region noch fahrradfreundlicher werden? Welche Möglichkeiten der Kooperation bestehen?Über diese und weitere Fragen möchten wir gern mit Ihnen ins Gespräch kommen.Als Sprachrohr vor Ort laden wir Sie daher herzlich zu unserer Online-Veranstaltung Bett+Bike Tourismustalk Ost ein:Online-Veranstaltung Bett+Bike Tourismustalk – „Mit Qualität im Radtourismus punkten“ Wann? Donnerstag, 7. Mai 2026 von 13:00 – 14:00 Uhr Für wen? Touristiker*innen & Radbeauftragte aus den Kommunen und Landkreisen, die Bett+Bike besser kennenlernen und/oder ihre Erfahrungen im Radtourismus austauschen möchten.Was? kostenfreie Online-Veranstaltung, Anmeldung erforderlich Für die Anmeldung zum Tourismustalk senden Sie uns bitte eine E-Mail an bettundbike@brandenburg.adfc.de bzw. bettundbike@adfc-sachsen.de Wir freuen uns auf Ihre Anmeldung und rege Teilnahme!Ihr Ansprechpersonen bei Rückfragen:Tino Freißler Regionalmanager Bett+Bike für Brandenburg & Berlin Telefon: 0331 - 280 50 32 E-Mail: bettundbike@brandenburg.adfc.de Janine Häser Regionalmanagement Sachsen, Sachsen-Anhalt und Thüringen Telefon: 0351 - 850 915 10 E-Mail: bettundbike@adfc-sachsen.de 
LOCATION:Allgemeiner Deutscher Fahrrad-Club e. V. (ADFC) 
		10117 Berlin
	
CATEGORIES:Ausstellung / Messe / Fachmesse / Fachausstellung / Fachveranstaltung,Bildung / Diskussion / Vorträge / Wissenschaft,Messen und Präsentationen,Regionale Veranstaltungen,Seminare/ Aus- und Weiterbildungen/ Exkursionen
URL:https://www.tourismusnetzwerk-sachsen-anhalt.de/de/tourismusnetzwerk-sachsen-anhalt-veranstaltung/event/9958856,1050/bettbike-tourismustalk-07-05-2026.html
ATTACH:https://www.tourismusnetzwerk-sachsen-anhalt.de/de/datei/anzeigen/id/9958857,1050/bett+bike_tourismustalk.png
END:VEVENT
END:VCALENDAR
