BEGIN:VCALENDAR
CALSCALE:GREGORIAN
METHOD:PUBLISH
VERSION:2.0
PRODID:-//iCalWriter OpenSource Project//iCalWriter 0.8.1//EN
BEGIN:VEVENT
DTSTAMP:20260421T190220Z
UID:1776798140BRaz@www.tourismusnetzwerk-sachsen-anhalt.de
DTSTART:20260519T100000
DTEND:20260519T110000
SUMMARY:MAQNIcademy Impuls - "Gamification als strategisches Instrument der Besucherlenkung"
DESCRIPTION:MAQNIFY bietet mit der Webinar-Reihe "MAQNIcademy – Wissen kostenlos, aber nicht umsonst“ den nächsten Impuls zum Thema „Gamification als strategisches Instrument der Besucherlenkung“ an.
Spielerische Mechaniken mit strategischer Wirkung.
Gamification ist längst mehr als ein spielerischer Trend – im Tourismus wird sie zunehmend zu einem wirkungsvollen Instrument der Besucherlenkung. Durch gezielte Anreize, interaktive Erlebnisse und digitale Elemente lassen sich Besucherströme nicht nur lenken, sondern auch emotional aufladen und nachhaltig beeinflussen. Gerade vor dem Hintergrund steigender Besucherzahlen, sensibler Räume und wachsender Erwartungen an die Erlebnisqualität gewinnt dieser Ansatz immer mehr an Relevanz.
Ein zentraler Erfolgsfaktor liegt dabei auch in der gezielten Ansprache sozialer Dynamiken: Vergleichbarkeit, Interaktion und das Bedürfnis, Erlebnisse sichtbar zu machen, spielen eine entscheidende Rolle für die Aktivierung und Steuerung von Besuchern.
Hier setzt MAQNIFY Play an: Die neue Produktlösung von TourComm nutzt genau diese Prinzipien, um Besucher aktiv einzubinden, Erlebnisse zu inszenieren und Besucherlenkung strategisch zu unterstützen.
In unserem Webinar zeigt Dominic Fischer (Geschäftsführer TourComm Germany), wie Gamification gezielt als strategisches Instrument eingesetzt werden kann, und gibt dabei konkrete Einblicke in MAQNIFY Play.
LOCATION:TourComm Germany 69469 Weinheim
CATEGORIES:Ausstellung / Messe / Fachmesse / Fachausstellung / Fachveranstaltung,Bildung / Diskussion / Vorträge / Wissenschaft,Seminare/ Aus- und Weiterbildungen/ Exkursionen
URL:https://www.tourismusnetzwerk-sachsen-anhalt.de/de/tourismusnetzwerk-sachsen-anhalt-veranstaltung/event/9958861,1050/maqnicademy-impuls---gamification-als-strategisches-instrument-der-besucherlenkung-19-05-2026.html
ATTACH:https://www.tourismusnetzwerk-sachsen-anhalt.de/de/datei/anzeigen/id/9958862,1050/786ab63e-4a35-40b0-a456-4b882f659392.png
END:VEVENT
END:VCALENDAR
